BEGIN:VCALENDAR
VERSION:2.0
PRODID:-//View Tube - ECPv6.15.18//NONSGML v1.0//EN
CALSCALE:GREGORIAN
METHOD:PUBLISH
X-ORIGINAL-URL:https://theviewtube.co.uk
X-WR-CALDESC:Events for View Tube
REFRESH-INTERVAL;VALUE=DURATION:PT1H
X-Robots-Tag:noindex
X-PUBLISHED-TTL:PT1H
BEGIN:VTIMEZONE
TZID:Europe/London
BEGIN:DAYLIGHT
TZOFFSETFROM:+0000
TZOFFSETTO:+0100
TZNAME:BST
DTSTART:20190331T010000
END:DAYLIGHT
BEGIN:STANDARD
TZOFFSETFROM:+0100
TZOFFSETTO:+0000
TZNAME:GMT
DTSTART:20191027T010000
END:STANDARD
BEGIN:DAYLIGHT
TZOFFSETFROM:+0000
TZOFFSETTO:+0100
TZNAME:BST
DTSTART:20200329T010000
END:DAYLIGHT
BEGIN:STANDARD
TZOFFSETFROM:+0100
TZOFFSETTO:+0000
TZNAME:GMT
DTSTART:20201025T010000
END:STANDARD
BEGIN:DAYLIGHT
TZOFFSETFROM:+0000
TZOFFSETTO:+0100
TZNAME:BST
DTSTART:20210328T010000
END:DAYLIGHT
BEGIN:STANDARD
TZOFFSETFROM:+0100
TZOFFSETTO:+0000
TZNAME:GMT
DTSTART:20211031T010000
END:STANDARD
END:VTIMEZONE
BEGIN:VEVENT
DTSTART;TZID=Europe/London:20201010T120000
DTEND;TZID=Europe/London:20201011T190000
DTSTAMP:20260422T165138
CREATED:20200928T140029Z
LAST-MODIFIED:20200928T140029Z
UID:1881-1602331200-1602442800@theviewtube.co.uk
SUMMARY:ART MARKET LIVE!
DESCRIPTION:Mark October 10th & 11th\, 12-7pm in your calendars! Our wonderful creatives at the View Tube are hosting an outdoor exhibition featuring 11 artists\, a market selling arts and crafts\, artisan foods\, tarot readings and healings\, Live music\, Dj’s and more! 10 percent of the proceeds of art sold will go to an animal sanctuary charity  \nRead more about the event here: https://www.facebook.com/Art-Market-Live-111651284027077
URL:https://theviewtube.co.uk/event/art-market-live/
CATEGORIES:Bikes,Cafe,Community activities and events,Farmers Market,Garden,London Stadium,Runners,Studios,Volunteering
END:VEVENT
BEGIN:VEVENT
DTSTART;TZID=Europe/London:20200308T110000
DTEND;TZID=Europe/London:20200308T140000
DTSTAMP:20260422T165138
CREATED:20200223T185522Z
LAST-MODIFIED:20200304T084106Z
UID:1384-1583665200-1583676000@theviewtube.co.uk
SUMMARY:Running and Sports Clothes Swap
DESCRIPTION:Viewtube Runners here!👋 \nWe would like to invite you to our very first Running Clothes Swap event on Sunday 8th March at the Viewtube Cafe on The Greenway. \nClothes swap enable us to refresh our wardrobe without adding to it\, so give your unwanted sports clothes and gadgets another chance. \n\nYou can join the Viewtube Runners for a 5k or 10k or just pop up and enjoy some coffee\, tea\, fresh juices and some delicious food at the same time at the Viewtube Cafe whilst you swap. Clothes that are not swapped will be donated to a charity shop afterwards.
URL:https://theviewtube.co.uk/event/running-and-sports-clothes-swap/
LOCATION:The View Tube\, The View Tube\, the Greenway\, Marshgate Lane\, London\, E15 2PJ
CATEGORIES:Community activities and events,Runners
END:VEVENT
END:VCALENDAR