BEGIN:VCALENDAR
VERSION:2.0
PRODID:-//View Tube - ECPv6.15.18//NONSGML v1.0//EN
CALSCALE:GREGORIAN
METHOD:PUBLISH
X-WR-CALNAME:View Tube
X-ORIGINAL-URL:https://theviewtube.co.uk
X-WR-CALDESC:Events for View Tube
REFRESH-INTERVAL;VALUE=DURATION:PT1H
X-Robots-Tag:noindex
X-PUBLISHED-TTL:PT1H
BEGIN:VTIMEZONE
TZID:Europe/London
BEGIN:DAYLIGHT
TZOFFSETFROM:+0000
TZOFFSETTO:+0100
TZNAME:BST
DTSTART:20180325T010000
END:DAYLIGHT
BEGIN:STANDARD
TZOFFSETFROM:+0100
TZOFFSETTO:+0000
TZNAME:GMT
DTSTART:20181028T010000
END:STANDARD
BEGIN:DAYLIGHT
TZOFFSETFROM:+0000
TZOFFSETTO:+0100
TZNAME:BST
DTSTART:20190331T010000
END:DAYLIGHT
BEGIN:STANDARD
TZOFFSETFROM:+0100
TZOFFSETTO:+0000
TZNAME:GMT
DTSTART:20191027T010000
END:STANDARD
BEGIN:DAYLIGHT
TZOFFSETFROM:+0000
TZOFFSETTO:+0100
TZNAME:BST
DTSTART:20200329T010000
END:DAYLIGHT
BEGIN:STANDARD
TZOFFSETFROM:+0100
TZOFFSETTO:+0000
TZNAME:GMT
DTSTART:20201025T010000
END:STANDARD
END:VTIMEZONE
BEGIN:VEVENT
DTSTART;TZID=Europe/London:20191113T090000
DTEND;TZID=Europe/London:20191113T140000
DTSTAMP:20260422T131202
CREATED:20191112T133343Z
LAST-MODIFIED:20191112T133537Z
UID:1090-1573635600-1573653600@theviewtube.co.uk
SUMMARY:Farmer's Market
DESCRIPTION:VT Farmer’s Market is back! 🤗\n\nJoin us Nov 13th 9am-2pm for some scrumptious stalls including:\nThe Celtic Bakers- Organic Artisan bakery with a fantastic range of breads\, pastries & savouries\nWild Country Organics- Award winning Organic veggies & produce\nKinahandcraft – Beautiful handcrafted pieces perfect for keeping cosy!\nVT Cafe will be ready to welcome you from the cold and supply you with lovely warm drinks & food too! 😊\n\n\n\n 
URL:https://theviewtube.co.uk/event/vt-farmers-market/
CATEGORIES:Cafe,Community activities and events,Garden
END:VEVENT
BEGIN:VEVENT
DTSTART;TZID=Europe/London:20191106T090000
DTEND;TZID=Europe/London:20191106T140000
DTSTAMP:20260422T131202
CREATED:20191030T150448Z
LAST-MODIFIED:20191112T133305Z
UID:948-1573030800-1573048800@theviewtube.co.uk
SUMMARY:Farmer's Market
DESCRIPTION:Come down to our loverly midweek farmer’s market! Launching 6th Nov 9am-2pm.\n\nStalls including Brambletye Fruit Farm- Selling organic locally produced fruit\, veg\, eggs\, and honey. Read more: https://www.lfm.org.uk/producers/brambletye-fruit-farms/\nThe Celtic Bakers- Locally selling Organic Artisan Bread with a formidable reputation for producing a fantastic range of breads and savouries\, all hand-baked the same day by their crack team of expert artisan breadmakers! More info: http://www.thecelticbakers.co.uk/\n\n\n 
URL:https://theviewtube.co.uk/event/farmers-market/
CATEGORIES:Community activities and events
END:VEVENT
BEGIN:VEVENT
DTSTART;TZID=Europe/London:20191030T170000
DTEND;TZID=Europe/London:20191030T210000
DTSTAMP:20260422T131202
CREATED:20191021T150821Z
LAST-MODIFIED:20191101T113043Z
UID:863-1572454800-1572469200@theviewtube.co.uk
SUMMARY:VT Cinema - 'Us' + Movie Breakdown by Bro Hakim
DESCRIPTION:After sending shockwaves across contemporary culture and setting a new standard for provocative\, socially-conscious horror films with his directorial debut\, GET OUT\, Academy Award®-winning visionary Jordan Peele returns with another original nightmare that he has written\, directed and produced.\n\nSynopsis:\nAfter spending a tense beach day with their friends\, the Tylers (Emmy winner Elizabeth Moss\, Tim Heidecker\, Cali Sheldon\, Noelle Sheldon)\, Adelaide (Oscar winner Lupita Nyong’o) and her family return to their vacation home. When darkness falls\, the Wilsons discover the silhouette of four figures holding hands as they stand in the driveway.\n\nUs pits an endearing American family against a terrifying and uncanny opponent: doppelgängers of themselves.\n\nEvening timetable:\n\n5.00pm: Doors open\n5.15pm: Film starts promptly\n\n7.15pm: Movie Breakdown by Bro Hakim a.k.a. The Film Doctor (Black Starline)\n\n\n8.00pm: Eat\, Drink and be Merry!\n\n\n9.00pm: Venue closes\n\n\n\nMediterranean Food (vegan options included) and drink (alchoholic & non-alchoholic) available to purchase from ViewTube Cafe. Music by DJ Vee.\n\n\n\n\n\nClick here for booking!\n\n\n\nDirections:\n\n\nPudding Mill Lane DLR Station: cross over under bridge take assending path\, less than 5min walk.\nThe station is located on the DLR’s Stratford to Poplar branch\, between the Bow Church and Stratford stations and is on the boundary between Travelcard Zone 2 & Zone 3.\n\nBus 276 \,108\, 339 + 10mins walk\n\n\n\n\n\n\n\nExcellent bicycle/walking link via The Greenway: Stratford to Beckton is a 6.8 kilometer point-to-point trail located near Newham.\nGreenway path is open From 5:30 AM every day and is locked at 7 PM in winter (Oct to Mar) and at 9 PM in summer (Apr to Sept).\n\nAdmission is on a first come\, first served basis.
URL:https://theviewtube.co.uk/event/vt-cinema-us-movie-breakdown-by-bro-hakim/
LOCATION:The View Tube\, The View Tube\, the Greenway\, Marshgate Lane\, London\, E15 2PJ
CATEGORIES:Cafe,Community activities and events
END:VEVENT
END:VCALENDAR